BEGIN:VCALENDAR
PRODID:-//Bloodlines - Touch Not The Cat &amp; Traces - A Genealogy Mystery Novel Series by Thomas McKerley and Ingrid Schippers//NONSGML v1.0//EN
VERSION:2.0
CALSCALE:GREGORIAN
METHOD:PUBLISH
X-WR-CALNAME:Bloodlines - Touch Not The Cat &amp; Traces - A Genealogy Mystery Novel Series by Thomas McKerley and Ingrid Schippers
X-ORIGINAL-URL:https://www.touchnotthecat.com
X-WR-CALDESC:Events for Bloodlines - Touch Not The Cat &amp; Traces - A Genealogy Mystery Novel Series by Thomas McKerley and Ingrid Schippers
X-WR-TIMEZONE:Europe/Amsterdam
BEGIN:VEVENT
DTSTART:20190119T120000
DTEND:20190119T160000
DTSTAMP:20260422T190410
CREATED:20190117T165727
LAST-MODIFIED:20190117T165955
UID:6281@https://www.touchnotthecat.com
SUMMARY:WHSmith Booksigning & Genealogy talk in Largs, Scotland 
DESCRIPTION:Come see us you in the beautiful seaside town Largs.    Saturday January 19 we'll be signing books and talking about genealogy from 12 Noon till 4 PM at:    WHSmith,  34, Main Street.  KA30 8AB Largs
LOCATION:34,Main Street, KA308AB, Largs, Ayrshire, United Kingdom
URL:https://www.touchnotthecat.com/agenda/whsmith-booksigning-genealogy-talk-in-largs-scotland/
END:VEVENT
BEGIN:VEVENT
DTSTART:20181121T110000
DTEND:20181121T123000
DTSTAMP:20260422T190410
CREATED:20181026T162054
LAST-MODIFIED:20181219T111946
UID:5792@https://www.touchnotthecat.com
SUMMARY:St.Leonard’s Library Event, Family History talk by Tom McKerley
DESCRIPTION:    Join Tom McKerley on Wednesday November 21, 11 a.m. 2018 at St. Leonard's Library in EastKilbride South Lanarkshire Scotland for a talk on family history research and the 'Bloodlines' genealogy mystery series.        Big thank you to Susan Balmer      Available now to download for free:  Family History Guide November 11 2018  with excerpts from the genealogy mystery novels Bloodlines-Touch Not the Cat and Bloodlines-Traces.  The family history guide was published November 11 2018 to celebrate the 7-year anniversary of Bloodlines-Touch Not the Cat,  (WYBT Publishing 11.11.11)    
LOCATION:St. Leonard, G74 2AT, East Kilbride, South Lanarkshire, United Kingdom
URL:https://www.touchnotthecat.com/agenda/st-leonards-library-event-family-history-talk-by-tom-mckerley/
END:VEVENT
BEGIN:VEVENT
DTSTART:20181122T190000
DTEND:20181122T190000
DTSTAMP:20260422T190410
CREATED:20181026T161140
LAST-MODIFIED:20181219T111951
UID:5795@https://www.touchnotthecat.com
SUMMARY:Prestwick Library Event, Family History talk by Tom McKerley
DESCRIPTION:    Join Tom McKerley on Monday November 22, 2018 at Prestwick Library in Prestwick, SouthAyrshire, Scotland for a talk on family history research and the 'Bloodlines' genealogy mystery series.        Event starts at 7.00 pm  Big thank you to Margaret McNulty    Available now to download for free:  Family History Guide November 11 2018  with excerpts from the genealogy mystery novels Bloodlines-Touch Not the Cat and Bloodlines-Traces.  The family history guide was published November 11 2018 to celebrate the 7-year anniversary of Bloodlines-Touch Not the Cat,  (WYBT Publishing 11.11.11)             
LOCATION:14 Kyle Street, KA9 1 PQ, Prestwick, South Ayrshire, United Kingdom
URL:https://www.touchnotthecat.com/agenda/prestwick-library-event-family-history-talk-by-tom-mckerley/
END:VEVENT
BEGIN:VEVENT
DTSTART:20181119T190000
DTEND:20181119T203000
DTSTAMP:20260422T190410
CREATED:20181026T160102
LAST-MODIFIED:20181219T111956
UID:5784@https://www.touchnotthecat.com
SUMMARY:Carnegie Library Event, Family History talk by Tom McKerley
DESCRIPTION:  Join Tom McKerley on Monday November 19, 2018 at Carnegie Library in Ayr, South Ayrshire, Scotland for a talk on family history research and the 'Bloodlines' genealogy mystery series.  Event starts at 7.00 pm  Big thank you to Samantha Kaminski  Available now to download for free:  Family History Guide November 11 2018  with excerpts from the genealogy mystery novels Bloodlines-Touch Not the Cat and Bloodlines-Traces.  The family history guide was published November 11 2018 to celebrate the 7-year anniversary of Bloodlines-Touch Not the Cat,  (WYBT Publishing 11.11.11)                          Don't mind the historic date on the picture:) This was Tom on November 19 2018
LOCATION:12 Main Street ,  KA8 8EB, Ayr  , South Ayrshire, United Kingdom
URL:https://www.touchnotthecat.com/agenda/carnegie-library-event-family-history-talk-by-tom-mckerley/
END:VEVENT
BEGIN:VEVENT
DTSTART:20180703T063000
DTEND:20180703T083000
DTSTAMP:20260422T190410
CREATED:20180622T180228
LAST-MODIFIED:20181219T112500
UID:5654@https://www.touchnotthecat.com
SUMMARY:Strathaven ‘Bloodlines’ Library Event July 3rd 2018 6.30 PM
DESCRIPTION:On his Strathaven 3rd of July tour, Tom McKerley will be in Strathaven Library as off 6.30 pm to talk about family history and the writing of Bloodlines - Touch Not the Cat and Bloodlines-Traces.      
LOCATION:Avondale Community Wing, Overton Road, ML10 6JW, Strathaven, United Kingdom
URL:https://www.touchnotthecat.com/agenda/strathaven-bloodlines-library-event-july-3rd-2018-6-30-pm/
END:VEVENT
BEGIN:VEVENT
DTSTART:20180703T143000
DTEND:20180703T160000
DTSTAMP:20260422T190410
CREATED:20180622T174410
LAST-MODIFIED:20181219T112509
UID:5642@https://www.touchnotthecat.com
SUMMARY:Touch Not the Cat’s Whiskers Tom McKerley
DESCRIPTION:Tom McKerley will be in Strathaven July 3rd to talk about family history and the writing of Bloodlines - Touch Not the Cat and Bloodlines-Traces.  His first port of call will be at:    The Cat's Whiskers Cafe  39A Bridge Street  Strathaven  ML10 6AN  For more information you can reach us at info@touchnnotthecat.com  
LOCATION:39A Bridge Street, ML10 6JW, Strathaven, United Kingdom
URL:https://www.touchnotthecat.com/agenda/touch-not-the-cats-whiskers-tom-mckerley/
END:VEVENT
BEGIN:VEVENT
DTSTART:20171101T103000
DTEND:20171101T123000
DTSTAMP:20260422T190410
CREATED:20171021T155347
LAST-MODIFIED:20181219T112033
UID:5389@https://www.touchnotthecat.com
SUMMARY:Ayr Writer’s Group
DESCRIPTION:Presentation by Tom McKerley on the genealogy mystery novels Bloodlines-Touch Not the Cat &amp; Bloodlines-Traces at the Ayr Writer's Group.
LOCATION:Newmarket Street, Troon, United Kingdom
URL:https://www.touchnotthecat.com/agenda/ayr-writers-group/
END:VEVENT
BEGIN:VEVENT
DTSTART:20171031T193000
DTEND:20171031T210000
DTSTAMP:20260422T190410
CREATED:20171021T130954
LAST-MODIFIED:20181219T112515
UID:5381@https://www.touchnotthecat.com
SUMMARY:Genealogy and its Inspiration. St.Meddans, Troon
DESCRIPTION:Tom McKerley, co-author of the genealogy mystery novels Bloodlines Touch Not the Cat and its sequel Bloodlines Traces will be talking about genealogy and its inspiration    
LOCATION:Church St, Troon KA10 6HT, United Kingdom, KA106HT, Troon, United Kingdom
URL:https://www.touchnotthecat.com/agenda/genealogy-and-its-inspiration-st-meddans-troon/
END:VEVENT
BEGIN:VEVENT
DTSTART:20170415
DTEND:20170416
DTSTAMP:20260422T190410
CREATED:20170412T071706
LAST-MODIFIED:20181219T112441
UID:5319@https://www.touchnotthecat.com
SUMMARY:April 15 2017: Tom McKerley to talk about genealogy at ‘Fabled Ayr’ event Waterstones
DESCRIPTION:Tom McKerley will be talking about  the geneaology research that served as a foundation for his contribution in the Bloodlines series    Where &amp; When    Easterweekend, Saturday 15th of April  at Waterstones Ayr, Ayr, Scotland.    Time: 4 pm
LOCATION:127-147 high street, KA7 1 QR, Ayr, United Kingdom
URL:https://www.touchnotthecat.com/agenda/april-15-2017-tom-mckerley-to-talk-about-genealogy-at-fabled-ayr-event-waterstones/
END:VEVENT
BEGIN:VEVENT
DTSTART:20170517
DTEND:20170518
DTSTAMP:20260422T190410
CREATED:20170320T165611
LAST-MODIFIED:20181219T112448
UID:5304@https://www.touchnotthecat.com
SUMMARY:Troon Library Event May 17, 2017
DESCRIPTION:    Get your agenda's out....here's an announcement for yet another free event in the library of Troon Scotland, hometown to Tom McKerley            Tom will be joining us at Troon Library to talk about what inspired him to write, and the genealogy that is at the heart of his books with Ingrid Schippers, Bloodlines – Touch Not the Cat and Bloodlines – Traces, a mystery series on cultural inheritance.    The characters and their life stories in the Bloodlines series could be anyone’s story. Anyone who can trace ancestry, anyone whose great-great-grandmother answered the call for women’s liberation, anyone whose predecessors fought for justice and fulfilment in their quest for survival.    To book your free place visit Troon library, south Beach, Troon or Tel: 01292 315 352          
LOCATION:South Beach, Troon, United Kingdom
URL:https://www.touchnotthecat.com/agenda/troon-library-event-may-17-2017/
END:VEVENT
BEGIN:VEVENT
DTSTART:20171028T000000
DTEND:20171231T230000
DTSTAMP:20260422T190410
CREATED:20170121T122805
LAST-MODIFIED:20181219T112601
UID:5225@https://www.touchnotthecat.com
SUMMARY:Access Netherlands, serving the international community
DESCRIPTION:I recently had the pleasure to read two books from writer duo Thomas McKerley and Ingrid Schippers.  Thus starts the Access review by Tracey Taylor with its attached special offer for internationals in The Netherlands to buy author signed copies of Bloodlines-Touch Not the Cat and Bloodlines-Traces directly from the authors.    Thank you ACCESS Executive Director, Deborah Valentine and Reviewer Tracey Taylor for your profound and professional  support.    Click the excerpt to read more:    Both books are well crafted and clearly well researched. The historical  events which are referred to at times are accurate and considered.      
LOCATION:The Hague International Centre - The City Hall Atrium  Spui 70  The Hague  Monday - Friday 9:00 - 17:00, 2511BT, The Hague Area, Netherlands
URL:https://www.touchnotthecat.com/agenda/access-netherlands-serving-the-international-community/
END:VEVENT
BEGIN:VEVENT
DTSTART:20170117T113000
DTEND:20170117T140000
DTSTAMP:20260422T190410
CREATED:20170114T154240
LAST-MODIFIED:20181219T112544
UID:5210@https://www.touchnotthecat.com
SUMMARY:Cafe 141 book signing and Scottish Family History gathering
DESCRIPTION:A new event is planned next week. Tom McKerley will be attending his local café next  Tuesday 17th January at 11.30 am to have a chat regarding Bloodlines -Touch Not the Cat &amp; Traces, as  well as Scottish Family History writing.    Café 141 is on Deveron Road in  Troon, the street where Tom lives. 141 is the actual address of the café. Wrap up should be around 2 in the afternoon. Regarding actually writing about  family history, Ingrid and Tom have been working on a 'workshop type'  document on this topic, which will be published in a blog soon.
LOCATION:141 Deveron Road, Troon, Scotland, KA10 7JH, Troon, United Kingdom
URL:https://www.touchnotthecat.com/agenda/cafe-141-book-signing-and-scottish-family-history-gathering/
END:VEVENT
BEGIN:VEVENT
DTSTART:20170128
DTEND:20170129
DTSTAMP:20260422T190410
CREATED:20170103T164018
LAST-MODIFIED:20181219T112258
UID:5197@https://www.touchnotthecat.com
SUMMARY:Ayr, Scotland. January 28: Burns, Tradition & Genealogy
DESCRIPTION:January 27, 2017: A little update on tomorrow's (28 of January 2017) program at Waterstones in Ayr, where Tom McKerley will be doing bookreadings from Bloodlines-Touch Not the Cat and Bloodlines-Traces.  Also present: Catherine Czerkawska;  Dave Grant playing an acoustic set in the afternoon, Scottish Storytime at 11.30 and Allan MacGillivray who will be doing burns recitations throughout the day.   The café has a special Haggis and Cheese toastie on the menu and a piece of shortbread with every hot drink.   On the 28th of January 2017, starting 11 am, throughout the day, the friendly Waterstones bookseller in Ayr will be hosting an event that has Scotland written all over.  Robert Burns, traditional foods and…… Scottish Family History.      Tom McKerley, co author of the Scottish American Mystery Novels Bloodlines- Touch Not the Cat &amp; Bloodlines-Traces, will be there with the novels AND a new project McKerley &amp; Schippers have been working on:      A Guide to Scottish Family History Writing, with examples of “how to go where and find what” while researching your own genealogy.  Come visit Tom in Waterstones Ayr, on the 28th and sample some Scottish traditions….        
LOCATION:127 High Street, KA7 1, Ayr, Ayrshire, United Kingdom
URL:https://www.touchnotthecat.com/agenda/ayr-scotland-january-28-burns-tradition-genealogy/
END:VEVENT
BEGIN:VEVENT
DTSTART:20130326T093000
DTEND:20130326T120000
DTSTAMP:20260422T190410
CREATED:20130310T160359
LAST-MODIFIED:20130310T161936
UID:3189@https://www.touchnotthecat.com
SUMMARY:‘Family Tree’ and ‘Life’ Story Telling  Presentation & Workshop
DESCRIPTION:On March 26th, we organise a ‘Family Tree’ and ‘Life’ Story Telling Presentation &amp; Workshop at La Buena Vida, The Hague, The Netherlands.    Bring your pictures, family letters and other documentation for a presentation on how the heritage of your life and that of your ancestors, holds legendary tales that open doors to the past and future generations.    Presenter: Ingrid Schippers, co-author of the genealogy novel ‘Bloodlines-Touch Not the Cat’.    Presenting:  "The Archive Box", containing: an author signed copy of Bloodlines-Touch Not the Cat; hand outs on examples of the main documents, (free) web addresses and sources used in genealogy research;    + 3 questions to get you started on your own family history or life story.    'The Archive Box' (€ 22,-) can be purchased at the presentation for your own use and makes a nice present for a relative or friend interested in genealogy.
LOCATION:Fahrenheitstraat 582, The Hague
URL:https://www.touchnotthecat.com/agenda/family-tree-and-life-story-telling-presentation-workshop/
END:VEVENT
BEGIN:VEVENT
DTSTART:20130414T130000
DTEND:20130414T153000
DTSTAMP:20260422T190410
CREATED:20130310T160359
LAST-MODIFIED:20130310T161919
UID:3199@https://www.touchnotthecat.com
SUMMARY:‘Family Tree’ and ‘Life’ Story Telling  Presentation & Workshop
DESCRIPTION:To explore the subject of family history and life-story telling further , “The Archive Box” workshops are held at The Expatriate Archives in The Hague on April 14th.    In a group of maximum 6 people, a journey is initiated to turn your story into prose.    Bring your pictures, family letters and other documentation for a presentation on how the heritage of your life and that of your ancestors, holds legendary tales that open doors to the past and future generations.    Presenter: Ingrid Schippers, co-author of the genealogy novel ‘Bloodlines-Touch Not the Cat’.    Workshop material: “The Archive Box”, containing an author- signed copy of the Genealogy Mystery Novel: Bloodlines Touch Not the Cat; basic information on how to initiate genealogy research; techniques and leads to write your (family) life story.    'The Archive Box' (€ 22,-) is included in the workshop fee of € 36,- euro per person. Should you wish to purchase “The Archive Box” as a present for a relative or friend interested in genealogy, please also inform us in advance.
LOCATION:Paramaribostraat 20, The Hague
URL:https://www.touchnotthecat.com/agenda/family-tree-and-life-story-telling-presentation-workshop-2/
END:VEVENT
BEGIN:VEVENT
DTSTART:20130124T190000
DTEND:20130124T220000
DTSTAMP:20260422T190410
CREATED:20130107T131925
LAST-MODIFIED:20130107T132038
UID:3151@https://www.touchnotthecat.com
SUMMARY:Genealogy Workshop with a Personal Development Touch
DESCRIPTION:The Mysterious Basics of Researching your Family Tree.  Where to Start- Who to Find  &amp; What it will Bring.    Presented by Genealogy Authors Thomas McKerley &amp; Ingrid Schippers.    Sign on now for the pilot special Thursday January 24, 7-10 p.m.  Venue: The Welsh Bakestone, Westduinweg 193, Scheveningen/Den Haag  Email Tom &amp; Ingrid at: info@touchnotthecat.com or call Ingrid at : 070-2167394    Admission: 22 euro per person including genealogy research guidelines, as well as coffee, tea and the lovely Family Recipe British Cakes of the Welsh Bakestone by Yvette Pronk.  Max. 20 participants.
LOCATION:Westduinweg 193, Den Haag
URL:https://www.touchnotthecat.com/agenda/genealogy-workshop-with-a-personal-development-touch/
END:VEVENT
BEGIN:VEVENT
DTSTART:20120824
DTEND:20120827
DTSTAMP:20260422T190410
CREATED:20120711T110935
LAST-MODIFIED:20120711T112222
UID:3064@https://www.touchnotthecat.com
SUMMARY:Book presentation at Glasgow Airport
DESCRIPTION:Glasgow Airport is next on the 24th, 25th and 26th of August where Ingrid &amp; Tom will be taking part in 'The Best of Scotland' event on behalf of Discover Glasgow, the lovely shop that sells all to do with Scotland.
LOCATION:Glasgow Airport, United Kingdom
URL:https://www.touchnotthecat.com/agenda/book-presentation-at-glasgow-airport/
END:VEVENT
BEGIN:VEVENT
DTSTART:20120823T190000
DTEND:20120823T220000
DTSTAMP:20260422T190410
CREATED:20120711T110449
LAST-MODIFIED:20120711T111855
UID:3059@https://www.touchnotthecat.com
SUMMARY:Book presentation at the famous Fringe
DESCRIPTION:Both authors will be doing a book presentation at the famous Fringe on the evening of Thursday 23rd of August at Blackwell bookshop in Edinburgh from 7 p.m. onward
LOCATION:53-62 South Bridge, EH1 1YS, Edinburgh, United Kingdom
URL:https://www.touchnotthecat.com/agenda/book-presentation-at-the-famous-fringe/
END:VEVENT
BEGIN:VEVENT
DTSTART:20120728T130000
DTEND:20120728T170000
DTSTAMP:20260422T190410
CREATED:20120711T110033
LAST-MODIFIED:20120711T111716
UID:3056@https://www.touchnotthecat.com
SUMMARY:Booksigning  at Waterstones Braehead Glasgow
DESCRIPTION:Saturday 28th of July 2012, Tom will be signing Bloodlines Touch Not the Cat at Waterstones Braehead (Glasgow), from 1 p.m. onward.
LOCATION:King&#039;s Inch Road, G51 4BP, Renfrew Glasgow, United Kingdom
URL:https://www.touchnotthecat.com/agenda/booksigning-at-waterstones-braehead-glasgow/
END:VEVENT
BEGIN:VEVENT
DTSTART:20120605T110000
DTEND:20120605T170000
DTSTAMP:20260422T190410
CREATED:20120321T203958
LAST-MODIFIED:20120321T204338
UID:2947@https://www.touchnotthecat.com
SUMMARY:Full day book event at the Ballindalloch estate
DESCRIPTION:On June 5th there is a full day book event at the Ballindalloch estate.    Do you want to witness how Cathy Macpherson solved her familymystery? Walk the castle grounds with the authors?    Join us on June 5th from 11.00 onward at Ballindalloch castle; for booksignings and readings in the castle tearoom and author guided walks along the river Spey.
LOCATION:AB37 9AX,  Banffshire, United Kingdom
URL:https://www.touchnotthecat.com/agenda/full-day-book-event-at-the-ballindalloch-estate/
END:VEVENT
BEGIN:VEVENT
DTSTART:20120428
DTEND:20120429
DTSTAMP:20260422T190410
CREATED:20120321T203439
LAST-MODIFIED:20120321T204345
UID:2942@https://www.touchnotthecat.com
SUMMARY:Booksigning at WHSmith, Airdrie by Tom McKerley
DESCRIPTION:On April 28th there is a booksigning at WHSmith, Airdrie by Tom McKerley.    
LOCATION:60/62 Graham Street, ML6 6BU, Airdrie Lanarkshire, United Kingdom
URL:https://www.touchnotthecat.com/agenda/booksigning-at-whsmith-airdrie-by-tom-mckerley/
END:VEVENT
BEGIN:VEVENT
DTSTART:20120415
DTEND:20120416
DTSTAMP:20260422T190410
CREATED:20120321T203104
LAST-MODIFIED:20120321T204403
UID:2939@https://www.touchnotthecat.com
SUMMARY:Tartan day in The Netherlands 
DESCRIPTION:April 15th is Tartan day in The Netherlands in "The World of Scotland".     For more information please see:    The World of Scotland website    Ingrid will be there to read & sign "Bloodlines Touch Not the Cat".
LOCATION:Dr Bossersstraat 11, 3295 AG
URL:https://www.touchnotthecat.com/agenda/tartan-day-in-the-netherlands/
END:VEVENT
BEGIN:VEVENT
DTSTART:20120225T130000
DTEND:20120225T150000
DTSTAMP:20260422T190410
CREATED:20120222T152636
LAST-MODIFIED:20120222T152636
UID:2891@https://www.touchnotthecat.com
SUMMARY:Book signing at at Waterstones Book Shop in Ayr
DESCRIPTION:On Saturday 25th February, at 1 pm, Tom McKerley will be at Waterstones Book Shop in Ayr, for a book signing event. 
LOCATION:Waterstones Book Shop, 137 High Street, KA7 1QR, Ayr, United Kingdom
URL:https://www.touchnotthecat.com/agenda/book-signing-at-at-waterstones-book-shop-in-ayr/
END:VEVENT
BEGIN:VEVENT
DTSTART:20120204T110000
DTEND:20120204T120000
DTSTAMP:20260422T190410
CREATED:20120118T124505
LAST-MODIFIED:20120118T124515
UID:2886@https://www.touchnotthecat.com
SUMMARY:Book reading at The Vulpen
DESCRIPTION:On Saturday February the 4th its time for a "Read & Talk" from 11.a.m. till noon right in the heart of International The Hague at the shop that supplies everything including a laugh, "De Vulpen" (The Fountainpen), Frederik Hendriklaan 179.  
LOCATION:Frederik Hendriklaan 179, 2582 CA, Den Haag
URL:https://www.touchnotthecat.com/agenda/book-reading-at-the-vulpen/
END:VEVENT
BEGIN:VEVENT
DTSTART:20120203T100000
DTEND:20120203T110000
DTSTAMP:20260422T190410
CREATED:20120118T124224
LAST-MODIFIED:20120118T124251
UID:2882@https://www.touchnotthecat.com
SUMMARY:Book reading in La Buena Vida
DESCRIPTION:Authors Tom McKerley and Ingrid Schippers will be living the La Buena Vida on Friday February 3rd from 10 to 11 a.m. for a "Read &amp; Talk" on Bloodines-Touch Not the Cat. Come and enjoy La Buena coffee, sit back, listen &amp; enjoy...
LOCATION:Fahrenheitstraat 582, 2561 DK, Den Haag
URL:https://www.touchnotthecat.com/agenda/book-reading-in-la-buena-vida/
END:VEVENT
BEGIN:VEVENT
DTSTART:20111213T190000
DTEND:20111213T213000
DTSTAMP:20260422T190410
CREATED:20111114T211800
LAST-MODIFIED:20111115T103518
UID:2825@https://www.touchnotthecat.com
SUMMARY:Book signing in Den Haag
DESCRIPTION:Thomas McKerley and Ingrid Schippers will be signing Bloodlines - Touch Not The Cat at the Connecting Woman Annual Festive Networking Bazaar in The Hague.    For all info, see www.connectingwomen.nl.
LOCATION:Juliana van Stolberglaan 154, Den Haag
URL:https://www.touchnotthecat.com/agenda/book-signing-in-den-haag/
END:VEVENT
BEGIN:VEVENT
DTSTART:20111201T100000
DTEND:20111201T160000
DTSTAMP:20260422T190410
CREATED:20111114T211023
LAST-MODIFIED:20111115T103445
UID:2819@https://www.touchnotthecat.com
SUMMARY:Book signing in Wassenaar at The Saucy Spoons Cooking Club
DESCRIPTION:You are invited to a book signing with multiple authors in Wassenaar at The Saucy Spoons Cooking Club. Author Ingrid Schippers will be present to sign your copy of Bloodlines - Touch Not The Cat.    For more info, please see this pdf.  Program  10 am – Introduction of the Authors and Artists and their work;  11 am – Sale (cash only) &amp; Book Signing;  12 am – Buffet Lunch including, among others, Portuguese Specialities like Shrimp and Chicken Rissoles, Codfish Fritters, Chicken Piri-Piri, “Feijoada” (Bean Stew), Vegetable Soup, Custard Tarts, “Brigadeiros” (chocolate balls) and Rice Pudding  (cost 35 euros).    This will be an open door event; you can come and go anytime, but if you would like to enjoy the lunch, please confirm your presence and payment by emailing thesaucyspoons@gmail.com until Nov 24th (limited numbers).    Parking: parking on Wassenaarseslag is not allowed, if the driveway is full, please proceed straight ahead 50 meters and turn right onto Pieter Postlaan where you can park freely.
LOCATION:Wassenaarseslag 2, 2242PH, Wassenaar
URL:https://www.touchnotthecat.com/agenda/book-signing-in-wassenaar/
END:VEVENT
BEGIN:VEVENT
DTSTART:20111201T190000
DTEND:20111201T210000
DTSTAMP:20260422T190410
CREATED:20111114T170410
LAST-MODIFIED:20111115T103359
UID:2796@https://www.touchnotthecat.com
SUMMARY:Reading and book signing at Oxfam, Clarkston, Glasgow
DESCRIPTION:Reading and book signing of Bloodlines - Touch Not The Cat with author Thomas McKerley.
LOCATION:Oxfam, 14/15 The Toll, Clarkston, G76 7BG, Glasgow, United Kingdom
URL:https://www.touchnotthecat.com/agenda/reading-and-book-signing-at-oxfam-clarkston-glasgow/
END:VEVENT
BEGIN:VEVENT
DTSTART:20111206T193000
DTEND:20111206T213000
DTSTAMP:20260422T190410
CREATED:20111114T170410
LAST-MODIFIED:20111114T171922
UID:2807@https://www.touchnotthecat.com
SUMMARY:Reading and book signing at Oxfam, Byres Road, Glasgow
DESCRIPTION:Reading and book signing of Bloodlines - Touch Not The Cat with authors Thomas McKerley and Ingrid Schippers.
LOCATION:Oxfam, 330A Byres Road, G12 8AP, Glasgow, United Kingdom
URL:https://www.touchnotthecat.com/agenda/reading-and-book-signing-at-oxfam-byres-road-glasgow/
END:VEVENT
BEGIN:VEVENT
DTSTART:20111205T184500
DTEND:20111205T210000
DTSTAMP:20260422T190410
CREATED:20111114T170410
LAST-MODIFIED:20111114T171936
UID:2810@https://www.touchnotthecat.com
SUMMARY:Reading and book signing at Oxfam, Merchant City, Glasgow
DESCRIPTION:Reading and book signing of Bloodlines - Touch Not The Cat with authors Thomas McKerley and Ingrid Schippers.
LOCATION:Oxfam, 5 Royal Exchange Square, G1 3AH, Glasgow, United Kingdom
URL:https://www.touchnotthecat.com/agenda/reading-and-book-signing-at-oxfam-merchant-city-glasgow/
END:VEVENT
BEGIN:VEVENT
DTSTART:20111203T140000
DTEND:20111203T160000
DTSTAMP:20260422T190410
CREATED:20111114T170410
LAST-MODIFIED:20111114T172057
UID:2812@https://www.touchnotthecat.com
SUMMARY:Reading and book signing at Oxfam, Troon
DESCRIPTION:Reading and book signing of Bloodlines - Touch Not The Cat with authors Thomas McKerley and Ingrid Schippers.
LOCATION:Oxfam, 9 Church Street, KA10 6AU, Troon, United Kingdom
URL:https://www.touchnotthecat.com/agenda/reading-and-book-signing-at-oxfam-troon/
END:VEVENT
BEGIN:VEVENT
DTSTART:20111111T180000
DTEND:20111111T200000
DTSTAMP:20260422T190410
CREATED:20110930T165658
LAST-MODIFIED:20111016T170203
UID:2501@https://www.touchnotthecat.com
SUMMARY:Book launch at American Book Center
DESCRIPTION:The very first book launch of Bloodlines - Touch Not The Cat will be held at the American Book Centre in The Hague on Friday evening 11.11.11 from 6:00 to 8:00 pm (www.abc.nl).    An April 2012 launch is planned in and around Grantown-on-Spey, in the Scottish Highlands, when the sun is out and when the crisp highland Spring is in the air. Further details will be posted at the turn of the year.
LOCATION:Lange Poten 23, 2511 CM, The Hague, Zuid-Holland
URL:https://www.touchnotthecat.com/agenda/book-launch-at-american-book-center/
END:VEVENT
END:VCALENDAR