BEGIN:VCALENDAR
PRODID:-//Bloodlines - Touch Not The Cat &amp; Traces - A Genealogy Mystery Novel Series by Thomas McKerley and Ingrid Schippers//NONSGML v1.0//EN
VERSION:2.0
CALSCALE:GREGORIAN
METHOD:PUBLISH
X-WR-CALNAME:Bloodlines - Touch Not The Cat &amp; Traces - A Genealogy Mystery Novel Series by Thomas McKerley and Ingrid Schippers
X-ORIGINAL-URL:https://www.touchnotthecat.com
X-WR-CALDESC:Events for Bloodlines - Touch Not The Cat &amp; Traces - A Genealogy Mystery Novel Series by Thomas McKerley and Ingrid Schippers
X-WR-TIMEZONE:Europe/Amsterdam
BEGIN:VEVENT
DTSTART:20171028T000000
DTEND:20171231T230000
DTSTAMP:20260420T192453
CREATED:20170121T122805
LAST-MODIFIED:20181219T112601
UID:5225@https://www.touchnotthecat.com
SUMMARY:Access Netherlands, serving the international community
DESCRIPTION:I recently had the pleasure to read two books from writer duo Thomas McKerley and Ingrid Schippers.  Thus starts the Access review by Tracey Taylor with its attached special offer for internationals in The Netherlands to buy author signed copies of Bloodlines-Touch Not the Cat and Bloodlines-Traces directly from the authors.    Thank you ACCESS Executive Director, Deborah Valentine and Reviewer Tracey Taylor for your profound and professional  support.    Click the excerpt to read more:    Both books are well crafted and clearly well researched. The historical  events which are referred to at times are accurate and considered.      
LOCATION:The Hague International Centre - The City Hall Atrium  Spui 70  The Hague  Monday - Friday 9:00 - 17:00, 2511BT, The Hague Area, Netherlands
URL:https://www.touchnotthecat.com/agenda/access-netherlands-serving-the-international-community/
END:VEVENT
END:VCALENDAR