BEGIN:VCALENDAR
PRODID:-//Bloodlines - Touch Not The Cat &amp; Traces - A Genealogy Mystery Novel Series by Thomas McKerley and Ingrid Schippers//NONSGML v1.0//EN
VERSION:2.0
CALSCALE:GREGORIAN
METHOD:PUBLISH
X-WR-CALNAME:Bloodlines - Touch Not The Cat &amp; Traces - A Genealogy Mystery Novel Series by Thomas McKerley and Ingrid Schippers
X-ORIGINAL-URL:https://www.touchnotthecat.com
X-WR-CALDESC:Events for Bloodlines - Touch Not The Cat &amp; Traces - A Genealogy Mystery Novel Series by Thomas McKerley and Ingrid Schippers
X-WR-TIMEZONE:Europe/Amsterdam
BEGIN:VEVENT
DTSTART:20120824
DTEND:20120827
DTSTAMP:20260422T152717
CREATED:20120711T110935
LAST-MODIFIED:20120711T112222
UID:3064@https://www.touchnotthecat.com
SUMMARY:Book presentation at Glasgow Airport
DESCRIPTION:Glasgow Airport is next on the 24th, 25th and 26th of August where Ingrid &amp; Tom will be taking part in 'The Best of Scotland' event on behalf of Discover Glasgow, the lovely shop that sells all to do with Scotland.
LOCATION:Glasgow Airport, United Kingdom
URL:https://www.touchnotthecat.com/agenda/book-presentation-at-glasgow-airport/
END:VEVENT
END:VCALENDAR